BEGIN:VCALENDAR
VERSION:2.0
PRODID:-//Middle Fork Willamette Watershed Council - ECPv6.15.20//NONSGML v1.0//EN
CALSCALE:GREGORIAN
METHOD:PUBLISH
X-ORIGINAL-URL:https://www.middleforkwillamette.org
X-WR-CALDESC:Events for Middle Fork Willamette Watershed Council
REFRESH-INTERVAL;VALUE=DURATION:PT1H
X-Robots-Tag:noindex
X-PUBLISHED-TTL:PT1H
BEGIN:VTIMEZONE
TZID:America/Los_Angeles
BEGIN:DAYLIGHT
TZOFFSETFROM:-0800
TZOFFSETTO:-0700
TZNAME:PDT
DTSTART:20240310T100000
END:DAYLIGHT
BEGIN:STANDARD
TZOFFSETFROM:-0700
TZOFFSETTO:-0800
TZNAME:PST
DTSTART:20241103T090000
END:STANDARD
BEGIN:DAYLIGHT
TZOFFSETFROM:-0800
TZOFFSETTO:-0700
TZNAME:PDT
DTSTART:20250309T100000
END:DAYLIGHT
BEGIN:STANDARD
TZOFFSETFROM:-0700
TZOFFSETTO:-0800
TZNAME:PST
DTSTART:20251102T090000
END:STANDARD
BEGIN:DAYLIGHT
TZOFFSETFROM:-0800
TZOFFSETTO:-0700
TZNAME:PDT
DTSTART:20260308T100000
END:DAYLIGHT
BEGIN:STANDARD
TZOFFSETFROM:-0700
TZOFFSETTO:-0800
TZNAME:PST
DTSTART:20261101T090000
END:STANDARD
END:VTIMEZONE
BEGIN:VEVENT
DTSTART;TZID=America/Los_Angeles:20251209T120000
DTEND;TZID=America/Los_Angeles:20251209T130000
DTSTAMP:20260423T084828
CREATED:20251202T173733Z
LAST-MODIFIED:20251202T173733Z
UID:5237-1765281600-1765285200@www.middleforkwillamette.org
SUMMARY:Capital Assistance for Local Farmers Final Project Report Findings
DESCRIPTION:The Capital Assistance for Local Farmers (CALF) Project brought together farm and food organizations across the state with lenders and government funders to bridge the gap\, provide better technical assistance to farmers\, and generate feedback loops to make programs more accessible to small and mid sized farmers in Oregon. \nAs a partner on this project\, the Upper Willamette Working Lands Program invites you to join Friends of Family Farmers for a virtual webinar on Tuesday\, December 9th\, from 12-1pm to learn more about the the project\, who was involved\, what was learned\, and our four final recommendations in order to achieve the ultimate goal of small and local market farmers getting a bigger share of the funds available for climate-smart\, local\, and community-oriented farming. This would help create stronger farm businesses and build a web of service providers to carry this work forward in the future. \nStay tuned for the CALF Final Project Report released December 8th! \nRSVP – https://secure.everyaction.com/3llGFCMgfUmbnkqrso8v3g2
URL:https://www.middleforkwillamette.org/event/capital-assistance-for-local-farmers-final-project-report-findings/
LOCATION:OR
END:VEVENT
END:VCALENDAR