BEGIN:VCALENDAR
VERSION:2.0
PRODID:-//Middle Fork Willamette Watershed Council - ECPv6.15.20//NONSGML v1.0//EN
CALSCALE:GREGORIAN
METHOD:PUBLISH
X-ORIGINAL-URL:https://www.middleforkwillamette.org
X-WR-CALDESC:Events for Middle Fork Willamette Watershed Council
REFRESH-INTERVAL;VALUE=DURATION:PT1H
X-Robots-Tag:noindex
X-PUBLISHED-TTL:PT1H
BEGIN:VTIMEZONE
TZID:America/Los_Angeles
BEGIN:DAYLIGHT
TZOFFSETFROM:-0800
TZOFFSETTO:-0700
TZNAME:PDT
DTSTART:20170312T100000
END:DAYLIGHT
BEGIN:STANDARD
TZOFFSETFROM:-0700
TZOFFSETTO:-0800
TZNAME:PST
DTSTART:20171105T090000
END:STANDARD
BEGIN:DAYLIGHT
TZOFFSETFROM:-0800
TZOFFSETTO:-0700
TZNAME:PDT
DTSTART:20180311T100000
END:DAYLIGHT
BEGIN:STANDARD
TZOFFSETFROM:-0700
TZOFFSETTO:-0800
TZNAME:PST
DTSTART:20181104T090000
END:STANDARD
BEGIN:DAYLIGHT
TZOFFSETFROM:-0800
TZOFFSETTO:-0700
TZNAME:PDT
DTSTART:20190310T100000
END:DAYLIGHT
BEGIN:STANDARD
TZOFFSETFROM:-0700
TZOFFSETTO:-0800
TZNAME:PST
DTSTART:20191103T090000
END:STANDARD
END:VTIMEZONE
BEGIN:VEVENT
DTSTART;TZID=America/Los_Angeles:20181025T173000
DTEND;TZID=America/Los_Angeles:20181025T193000
DTSTAMP:20260422T033822
CREATED:20171002T181534Z
LAST-MODIFIED:20181016T235816Z
UID:78-1540488600-1540495800@www.middleforkwillamette.org
SUMMARY:MFWWC Board of Directors Meeting
DESCRIPTION:Our Board of Directors meetings are always open to the public. They are held each month on the fourth Thursday of the month at our offices in Dexter. If you are interested in joining us or have any questions please contact our office at 458-215-8200 or email us at contact@middleforkwillamette.org.
URL:https://www.middleforkwillamette.org/event/mfwwc-board-of-directors-meeting/
LOCATION:OR
END:VEVENT
END:VCALENDAR